BEGIN:VCALENDAR
VERSION:2.0
PRODID:-//VeraS - ECPv6.11.2//NONSGML v1.0//EN
CALSCALE:GREGORIAN
METHOD:PUBLISH
X-WR-CALNAME:VeraS
X-ORIGINAL-URL:https://verasljungby.se
X-WR-CALDESC:Events for VeraS
REFRESH-INTERVAL;VALUE=DURATION:PT1H
X-Robots-Tag:noindex
X-PUBLISHED-TTL:PT1H
BEGIN:VTIMEZONE
TZID:Europe/Stockholm
BEGIN:DAYLIGHT
TZOFFSETFROM:+0100
TZOFFSETTO:+0200
TZNAME:CEST
DTSTART:20240331T010000
END:DAYLIGHT
BEGIN:STANDARD
TZOFFSETFROM:+0200
TZOFFSETTO:+0100
TZNAME:CET
DTSTART:20241027T010000
END:STANDARD
END:VTIMEZONE
BEGIN:VEVENT
DTSTART;TZID=Europe/Stockholm:20240322T141500
DTEND;TZID=Europe/Stockholm:20240322T154500
DTSTAMP:20260421T191739
CREATED:20240314T122927Z
LAST-MODIFIED:20240314T135243Z
UID:5115-1711116900-1711122300@verasljungby.se
SUMMARY:Världsvattendagen
DESCRIPTION:
URL:https://verasljungby.se/event/varldsvattendagen
LOCATION:VeraS\, Storgatan 17\, Ljungby
END:VEVENT
END:VCALENDAR